BEGIN:VCALENDAR
VERSION:2.0
PRODID:-//Union Lodge 5//Joint Summer Picnic//EN
CALSCALE:GREGORIAN
METHOD:PUBLISH
BEGIN:VEVENT
UID:20250823T120000-Union5Picnic@example.com
DTSTAMP:20250627T220000Z
DTSTART;TZID=America/New_York:20250823T110000
DTEND;TZID=America/New_York:20250823T150000
SUMMARY:Joint Summer Picnic - Union 5 & Ivanhoe 107
LOCATION:354 Post Rd., Darien, CT
DESCRIPTION:Union Lodge No. 5 & Ivanhoe Lodge No. 107 invite you and your family and friends to our Summer Picnic on Saturday\, August 23\, from 12:00 PM to 4:00 PM\nat the Masonic Temple\, 354 Post Rd\, Darien\, CT.\nVolunteers are needed for setup and breakdown.\nContact Ron Sala at 203-559-9620 or Gene Saxe at 917-939-6465.
ORGANIZER;CN=Ron Sala:MAILTO:ron.sala@gmail.com
END:VEVENT
END:VCALENDAR